BEGIN:VCALENDAR
VERSION:2.0
PRODID:-//188.34.128.146//NONSGML kigkonsult.se iCalcreator 2.41.74//
CALSCALE:GREGORIAN
UID:64343935-3932-4938-b435-323539663161
X-WR-TIMEZONE:Europe/Berlin
X-WR-CALNAME:www.datefix.de
X-WR-CALDESC:www.datefix.de Veranstaltungskalender
BEGIN:VTIMEZONE
TZID:Europe/Berlin
TZUNTIL:20280326T010000Z
BEGIN:STANDARD
TZNAME:CET
DTSTART:20251026T030000
TZOFFSETFROM:+0200
TZOFFSETTO:+0100
RDATE:20261025T030000
RDATE:20271031T030000
END:STANDARD
BEGIN:DAYLIGHT
TZNAME:CEST
DTSTART:20260329T020000
TZOFFSETFROM:+0100
TZOFFSETTO:+0200
RDATE:20270328T020000
END:DAYLIGHT
END:VTIMEZONE
BEGIN:VEVENT
UID:33363064-6436-4463-b534-396237626534
DTSTAMP:20260421T092126Z
DESCRIPTION:Müllabfuhr bedeutet längst nicht nur die schweren Restabfallton
 nen vor dem Haus abzuholen. Manche Landkreise und Städte in Bayern bieten 
 ihren Bürgerinnen und Bürgern bis zu 4 verschiedene Tonnen an. So werden z
 usätzlich Bioabfall\, Papier sowie Kunststoffe und Metalle getrennt erfass
 t und direkt am Wohnort abgeholt. Deswegen spricht man auch von einem 'Hol
 system'. \nGleichzeitig können damit die mithin größten Wertstofffraktione
 n aus privaten Haushalten und Gewerbebetrieben einem gezielten Recycling z
 ugeführt werden. Weitere Holsysteme gibt es je nach Landkreis ggf. für gro
 ße Elektrogeräte\, Grüngut\, Textilien und Verpackungen. 31 % der bayerisc
 hen Einwohner können sich sogar Weihnachtsbäume abholen lassen. Die Müllab
 fuhr ist somit bequem für Bewohner und Gewerbebetriebe.\nDurch ihre verant
 wortungsvolle und Arbeit wird unser aller Umfeld sauber gehalten\, Hygiene
 - und Gesundheitsschutz geleistet und vor allem die Kreislaufwirtschaft ge
 fördert. Sie leisten somit einen wichtigen Beitrag zu unserer Daseinsvorso
 rge\, der auch die entsprechende Wertschätzung verdient.\n\nEs ist daher m
 al an der Zeit\, den Mitarbeitern und Mitarbeiterinnen der Müllabfuhr eine
 n GROSSEN Dank auszusprechen!\n\nDen gleichen Gedanken hatte wohl auch der
  US-Amerikaner John D. Arwood im Sinn\, als er 2011 den ‘Global Garbage Ma
 n Day‘ ausrief.\n\nWeitere Informationen zur Situation der Abfallwirtschaf
 t in Bayern enthält die Hausmüllbilanz Bayern 2024.\nUnd Tipps gibt`s natü
 rlich hier im Abfallratgeber Bayern.\n\n<p><a href='https://www.bestellen.
 bayern.de/lfu_abfall_00283'>Abfallbilanz Bayern 2024</a></p>\n<p><a href='
 https://www.abfallratgeber.bayern.de/'>Abfallratgeber Bayern</a></p>
DTSTART:20260617T000000Z
DTEND:20260617T030000Z
LOCATION:
SUMMARY:Internationaler Tag der Müllabfuhr
END:VEVENT
END:VCALENDAR
