BEGIN:VCALENDAR
VERSION:2.0
PRODID:-//188.34.128.146//NONSGML kigkonsult.se iCalcreator 2.41.74//
CALSCALE:GREGORIAN
UID:38316662-3835-4737-a461-353533623135
X-WR-TIMEZONE:Europe/Berlin
X-WR-CALNAME:www.datefix.de
X-WR-CALDESC:www.datefix.de Veranstaltungskalender
BEGIN:VTIMEZONE
TZID:Europe/Berlin
TZUNTIL:20280326T010000Z
BEGIN:STANDARD
TZNAME:CET
DTSTART:20251026T030000
TZOFFSETFROM:+0200
TZOFFSETTO:+0100
RDATE:20261025T030000
RDATE:20271031T030000
END:STANDARD
BEGIN:DAYLIGHT
TZNAME:CEST
DTSTART:20260329T020000
TZOFFSETFROM:+0100
TZOFFSETTO:+0200
RDATE:20270328T020000
END:DAYLIGHT
END:VTIMEZONE
BEGIN:VEVENT
UID:32313834-3063-4330-b565-323735303763
DTSTAMP:20260420T102420Z
DESCRIPTION:Die gängigsten Strategien zur Gestaltung von Wertpapier-Portfol
 ios werden gezeigt. Des Weiteren wird Schritt für Schritt erklärt\, wie di
 e Anleger*innen selbst geeignete ETFs mit System auswählen können. Gezeigt
  wird\, wie ein Wertpapierdepot zu eröffnen ist und wie ETF-Anteile gekauf
 t und verkauft werden.
DTSTART:20260630T190000Z
DTEND:20260630T210000Z
LOCATION:Online-Kurs\, 83278 Traunstein\,
SUMMARY:Kriterien für die Auswahl von ETFs - Teil 2
END:VEVENT
END:VCALENDAR
