BEGIN:VCALENDAR
VERSION:2.0
PRODID:-//188.34.128.146//NONSGML kigkonsult.se iCalcreator 2.41.74//
CALSCALE:GREGORIAN
UID:35323630-3464-4664-a365-623461316235
X-WR-TIMEZONE:Europe/Berlin
X-WR-CALNAME:www.datefix.de
X-WR-CALDESC:www.datefix.de Veranstaltungskalender
BEGIN:VTIMEZONE
TZID:Europe/Berlin
TZUNTIL:20271031T010000Z
BEGIN:STANDARD
TZNAME:CET
DTSTART:20241027T030000
TZOFFSETFROM:+0200
TZOFFSETTO:+0100
RDATE:20251026T030000
RDATE:20261025T030000
END:STANDARD
BEGIN:DAYLIGHT
TZNAME:CEST
DTSTART:20250330T020000
TZOFFSETFROM:+0100
TZOFFSETTO:+0200
RDATE:20260329T020000
RDATE:20270328T020000
END:DAYLIGHT
END:VTIMEZONE
BEGIN:VEVENT
UID:37333238-3833-4561-b530-633335303862
DTSTAMP:20260422T120011Z
DESCRIPTION:Der Jahrestag der Beweidung richtet sich vor allem an Praktiker
  aus Naturschutz\, Landschaftspflege\, Land- und Forstwirtschaft\, die nat
 urschutzorientierte Beweidungsprojekte umsetzen und betreuen sowie an Behö
 rdenvertreter\, die solche Projekte bewerten oder zur Förderung empfehlen 
 sollen. \nIn diesem Jahr beschäftigen wir uns mit der Beweidung von feucht
 en und wiedervernässten Lebensräumen. Praxiserfahrungen der vergangenen Ja
 hre zeigen\, dass Rinder und Wasserbüffel hier große Potenziale entfalten 
 können. Mit unterschiedlichen Beiträgen zeigen wir bisher gesammelte Erfah
 rungen und wir nähern uns der Frage an\, welche Flächenmerkmale vor allem 
 hinsichtlich Ausstattung und Strukturen für ein gelingendes Management wic
 htig sind. \nDie Exkursion ins Donaumoos vermittelt anschauliche Praxisbei
 spiele wie Beweidung auf feuchten bis nassen Flächen optimiert werden kann
 .
DTSTART:20250926T000000Z
DTEND:20250926T030000Z
LOCATION:Zehntstadel\, Schlosshof 2\, 89340 Leipheim\,
SUMMARY:Jahrestag der Beweidung: Feuchte und wiedervernässte Lebensräume be
 weiden - 87/25
END:VEVENT
END:VCALENDAR
