BEGIN:VCALENDAR
VERSION:2.0
PRODID:-//188.34.128.146//NONSGML kigkonsult.se iCalcreator 2.41.74//
CALSCALE:GREGORIAN
UID:62336433-3938-4365-b630-646335366439
X-WR-TIMEZONE:Europe/Berlin
X-WR-CALNAME:www.datefix.de
X-WR-CALDESC:www.datefix.de Veranstaltungskalender
BEGIN:VTIMEZONE
TZID:Europe/Berlin
TZUNTIL:20270328T010000Z
BEGIN:STANDARD
TZNAME:CET
DTSTART:20241027T030000
TZOFFSETFROM:+0200
TZOFFSETTO:+0100
RDATE:20251026T030000
RDATE:20261025T030000
END:STANDARD
BEGIN:DAYLIGHT
TZNAME:CEST
DTSTART:20250330T020000
TZOFFSETFROM:+0100
TZOFFSETTO:+0200
RDATE:20260329T020000
END:DAYLIGHT
END:VTIMEZONE
BEGIN:VEVENT
UID:39373130-3039-4763-b362-636539313166
DTSTAMP:20260421T203844Z
DESCRIPTION:
DTSTART:20250627T000000Z
DTEND:20250629T000000Z
LOCATION:Kapuzinerhof\, Bildungszentrum der ANL\, Schlossplatz 4\, 83410 La
 ufen an der Salzach\,
SUMMARY:Netzwerktreffen Renaturierung: Naturschutzfachliches Wassermanageme
 nt in Grünland - 56/25
END:VEVENT
END:VCALENDAR
